BEGIN:VCALENDAR
VERSION:2.0
PRODID:-//Ameresco - ECPv6.15.13.1//NONSGML v1.0//EN
CALSCALE:GREGORIAN
METHOD:PUBLISH
X-WR-CALNAME:Ameresco
X-ORIGINAL-URL:https://www.ameresco.com
X-WR-CALDESC:Events for Ameresco
REFRESH-INTERVAL;VALUE=DURATION:PT1H
X-Robots-Tag:noindex
X-PUBLISHED-TTL:PT1H
BEGIN:VTIMEZONE
TZID:America/New_York
BEGIN:DAYLIGHT
TZOFFSETFROM:-0500
TZOFFSETTO:-0400
TZNAME:EDT
DTSTART:20220313T070000
END:DAYLIGHT
BEGIN:STANDARD
TZOFFSETFROM:-0400
TZOFFSETTO:-0500
TZNAME:EST
DTSTART:20221106T060000
END:STANDARD
BEGIN:DAYLIGHT
TZOFFSETFROM:-0500
TZOFFSETTO:-0400
TZNAME:EDT
DTSTART:20230312T070000
END:DAYLIGHT
BEGIN:STANDARD
TZOFFSETFROM:-0400
TZOFFSETTO:-0500
TZNAME:EST
DTSTART:20231105T060000
END:STANDARD
BEGIN:DAYLIGHT
TZOFFSETFROM:-0500
TZOFFSETTO:-0400
TZNAME:EDT
DTSTART:20240310T070000
END:DAYLIGHT
BEGIN:STANDARD
TZOFFSETFROM:-0400
TZOFFSETTO:-0500
TZNAME:EST
DTSTART:20241103T060000
END:STANDARD
END:VTIMEZONE
BEGIN:VEVENT
DTSTART;VALUE=DATE:20230531
DTEND;VALUE=DATE:20230604
DTSTAMP:20260425T101329
CREATED:20230522T135803Z
LAST-MODIFIED:20230522T135803Z
UID:27304-1685491200-1685836799@www.ameresco.com
SUMMARY:Florida City and County Management Association Annual Conference
DESCRIPTION:FCCMA (Florida City and County Management Association) is the professional organization for Florida’s local government administrators. Attendees can learn from keynotes\, breakout sessions\, social functions\, and much more. \nWe’re thrilled to sponsor the FCMA Annual Conference and hope to see you there!
URL:https://www.ameresco.com/event/florida-city-and-county-management-association-annual-conference/
LOCATION:Hyatt Regency Grand Cypress – Orlando\, 1 Grand Cypress Blvd\, Orlando\, FL\, 32836\, United States
CATEGORIES:Attending,Sponsor
ATTACH;FMTTYPE=image/jpeg:https://www.ameresco.com/wp-content/uploads/2023/05/FCCMA.jpg
END:VEVENT
BEGIN:VEVENT
DTSTART;VALUE=DATE:20230601
DTEND;VALUE=DATE:20230602
DTSTAMP:20260425T101329
CREATED:20230522T192039Z
LAST-MODIFIED:20230522T192039Z
UID:27341-1685577600-1685663999@www.ameresco.com
SUMMARY:Better Buildings Breakfast: Financing our Future
DESCRIPTION:This session aims to help those who know what they need to do to achieve deep reductions in energy and GHG emissions in their building(s)\, but don’t yet know how they will do it. \nWe are excited to be speaking at the event\, and we hope to see you there!
URL:https://www.ameresco.com/event/better-buildings-breakfast-financing-our-future/
LOCATION:Ottowa City Hall\, 110 Laurier Ave W\, Ottawa\, Ontario\, K1P 1J1\, Canada
CATEGORIES:Attending,Speaker and Presentation
ATTACH;FMTTYPE=image/jpeg:https://www.ameresco.com/wp-content/uploads/2023/05/Better-Building.jpg
END:VEVENT
BEGIN:VEVENT
DTSTART;VALUE=DATE:20230605
DTEND;VALUE=DATE:20230608
DTSTAMP:20260425T101329
CREATED:20230130T161436Z
LAST-MODIFIED:20230130T161436Z
UID:26551-1685923200-1686182399@www.ameresco.com
SUMMARY:2023 Renewable Energy Forum
DESCRIPTION:Engage with peers and suppliers at the Renewable Energy Forum in Ponte Vedra Beach\, Florida this June. This unique and proven platform is the only event where attendees learn\, network and conduct business to accomplish their RE goals. In attendance\, are experienced peers who have successfully implemented renewable strategies\, as well as leading suppliers who will share ideas and renewable energy solutions. \nWe are thrilled to be sponsors at this year’s Renewable Energy Forum and hope to see you there!
URL:https://www.ameresco.com/event/2023-renewable-energy-forum/
LOCATION:Ponte Vedra Inn & Club\, 200 Ponte Vedra Blvd\, Ponte Vedra Beach\, FL\, 32082\, United States
CATEGORIES:Attending,Sponsor
ATTACH;FMTTYPE=image/jpeg:https://www.ameresco.com/wp-content/uploads/2023/01/SED-REF.jpg
END:VEVENT
BEGIN:VEVENT
DTSTART;VALUE=DATE:20230607
DTEND;VALUE=DATE:20230608
DTSTAMP:20260425T101329
CREATED:20230522T191840Z
LAST-MODIFIED:20230522T191840Z
UID:27347-1686096000-1686182399@www.ameresco.com
SUMMARY:Stifel Cross Sector Insight Conference
DESCRIPTION:This conference is designed to help attendees navigate through a combination of presentations\, interactive panel discussions\, and speakers from newsmakers to business\, politics\, and pop culture. The conference will provide institutional investors with access to senior management and industry experts\, showcase emerging companies\, and investigate critical trends that are driving our economy. \nOn June 7\, 2023\, Ameresco’s Chairman of the Board\, President and Chief Executive Officer\, George Sakellaris\, will present at 10.20 AM ET. Ameresco’s management will host investor meetings throughout the day – we hope to see you there!
URL:https://www.ameresco.com/event/stifel-cross-sector-insight-conference/
LOCATION:InterContinental Boston
CATEGORIES:Attending,Speaker and Presentation
ATTACH;FMTTYPE=image/jpeg:https://www.ameresco.com/wp-content/uploads/2023/05/Stifel.jpg
END:VEVENT
BEGIN:VEVENT
DTSTART;VALUE=DATE:20230608
DTEND;VALUE=DATE:20230612
DTSTAMP:20260425T101329
CREATED:20230419T150232Z
LAST-MODIFIED:20230419T150232Z
UID:26930-1686182400-1686527999@www.ameresco.com
SUMMARY:TCMA Annual Conference
DESCRIPTION:The Texas City Management Association (TCMA)\, is an organization of local government professionals dedicated to promoting the highest standards of governance\, service\, leadership\, ethics\, and education while embracing individual and regional diversity for the benefit of their membership and the cities of Texas. \nWe are proud to sponsor the conference\, and we hope to see you there!
URL:https://www.ameresco.com/event/tcma-annual-conference/
LOCATION:Marriott Dallas Allen Hotel & Convention Center\, 777 Watters Creek Boulevard\, Allen\, TX\, 75013\, United States
CATEGORIES:Attending,Sponsor
ATTACH;FMTTYPE=image/jpeg:https://www.ameresco.com/wp-content/uploads/2023/04/TCMA-Conference.jpg
END:VEVENT
BEGIN:VEVENT
DTSTART;VALUE=DATE:20230608
DTEND;VALUE=DATE:20230609
DTSTAMP:20260425T101329
CREATED:20230522T191911Z
LAST-MODIFIED:20230522T191911Z
UID:27350-1686182400-1686268799@www.ameresco.com
SUMMARY:William Blair’s 43rd Annual Growth Stock Conference
DESCRIPTION:William Blair & Company will host its 43nd Annual Growth Stock Conference on June 8 in Chicago. The conference has become a premier event for growth investors and will feature more than 300 presenting companies across the spectrum in six sectors: consumer\, global industrial infrastructure\, global services\, financial services and technology\, healthcare\, and technology\, media\, and communications. Formal presentations by the management teams of presenting companies and thousands of one-on-one meetings between clients and management teams will be held throughout the conference. \nOn June 8\, 2023\, Ameresco’s Executive Vice President and Chief Financial Officer\, Doran Hole\, will present at 11.20 am CT at the conference. Ameresco’s management will host investor meetings throughout the day – we hope to see you there! 
URL:https://www.ameresco.com/event/william-blairs-43rd-annual-growth-stock-conference/
LOCATION:Chicago\, IL\, Chicago\, IL\, United States
CATEGORIES:Attending,Speaker and Presentation
ATTACH;FMTTYPE=image/jpeg:https://www.ameresco.com/wp-content/uploads/2023/05/William-Blair.jpg
END:VEVENT
BEGIN:VEVENT
DTSTART;VALUE=DATE:20230614
DTEND;VALUE=DATE:20230617
DTSTAMP:20260425T101329
CREATED:20230419T142223Z
LAST-MODIFIED:20230419T142223Z
UID:26920-1686700800-1686959999@www.ameresco.com
SUMMARY:Arkansas Municipal League 89th Hybrid Convention
DESCRIPTION:Each year the League sponsors a Convention for elected and appointed municipal officials from across the state. The Convention is designed to provide these officials with the opportunity to discuss problems of common interest and to learn of new developments and techniques in local government and public administration. \nWe are proud to be bronze sponsors of the event\, and we will be exhibiting so be sure to stop by!
URL:https://www.ameresco.com/event/arkansas-municipal-league-89th-hybrid-convention/
LOCATION:Little Rock Statehouse Convention Center\, 101 E Markham St.\, Little Rock\, AR\, 72201\, United States
CATEGORIES:Exhibition Display,Sponsor
ATTACH;FMTTYPE=image/jpeg:https://www.ameresco.com/wp-content/uploads/2023/04/Arkansas-Municipal-League.jpg
END:VEVENT
BEGIN:VEVENT
DTSTART;VALUE=DATE:20230620
DTEND;VALUE=DATE:20230623
DTSTAMP:20260425T101329
CREATED:20230919T195306Z
LAST-MODIFIED:20230919T195421Z
UID:27363-1687219200-1687478399@www.ameresco.com
SUMMARY:ROTH 9th Annual London Conference
DESCRIPTION:This conference will give investors the opportunity to meet with executive management from approximately 70 companies in a variety of sectors including: Sustainability and Technology. \nMeetings will be in a 1-on-1 / small group meeting format\, consisting of 40-minute management-investor to provide institutional clients with extensive interaction with executive management to gain in-depth insights into each company. The intimate format of the event will allow for meaningful interaction with select company management teams through meetings and many social gatherings throughout the conference. \nAmeresco’s management will host investor meetings throughout the day. We hope to see you there!
URL:https://www.ameresco.com/event/roth-9th-annual-london-conference/
LOCATION:Four Season Hotel London at Park Lane\, Hamilton Pl\, London\, W1J 7DR\, United Kingdom
CATEGORIES:Attending,Speaker and Presentation
ATTACH;FMTTYPE=image/jpeg:https://www.ameresco.com/wp-content/uploads/2023/05/rothlondon.jpg
END:VEVENT
BEGIN:VEVENT
DTSTART;VALUE=DATE:20230621
DTEND;VALUE=DATE:20230624
DTSTAMP:20260425T101329
CREATED:20230130T161420Z
LAST-MODIFIED:20230321T173424Z
UID:26559-1687305600-1687564799@www.ameresco.com
SUMMARY:Energy Storage Finance & Investment 2023
DESCRIPTION:The Energy Storage Finance & Investment Summit will bring storage developers together with leading tax equity investors\, lenders\, tax advisors\, market analysts and offtakers to develop and discuss the best new thinking on developing and obtaining financing for energy storage projects. \nSuccessful storage finance and investment now needs to take into account the ongoing storage boom in ERCOT\, the rise of storage as part of trading operations\, the demands by corporate offtakers to source clean energy 24/7\, and the emergence of longer duration storage technologies. \nOur Vice President of Battery Energy Storage Systems\, Jacquie DeRosa\, is a featured panelist on the Utility and Developer Perspectives: Structuring Storage for Utility\, Muni and Other Public Power Storage Projects to take advantage of the IRA’s New Incentives panel taking place on Thursday\, June 22nd from 2:00 – 3:00 p.m. We hope to see you there!
URL:https://www.ameresco.com/event/energy-storage-finance-investment-2023/
LOCATION:Arizona Biltmore\, A Waldorf Astoria Resort\, 2400 E Missouri Ave\, Phoenix\, AZ\, 85016\, United States
CATEGORIES:Attending,Speaker and Presentation
ATTACH;FMTTYPE=image/jpeg:https://www.ameresco.com/wp-content/uploads/2023/01/Energy-Storage-Finance-INvestment.jpg
END:VEVENT
BEGIN:VEVENT
DTSTART;VALUE=DATE:20230629
DTEND;VALUE=DATE:20230630
DTSTAMP:20260425T101329
CREATED:20230621T155045Z
LAST-MODIFIED:20230621T155045Z
UID:27581-1687996800-1688083199@www.ameresco.com
SUMMARY:Northeast Hydrogen Infrastructure Summit
DESCRIPTION:The Northeast Hydrogen Infrastructure Summit will convene utility industry leaders\, regulators\, solution providers and government leaders from primarily the Northeast for a constructive dialogue regarding policy\, priorities\, opportunities and challenges related to the development of scalable hydrogen solutions that enable the Northeast to achieve its decarbonization and environmental justice commitments while ensuring affordability\, resilience and reliability of critical power and transportation infrastructure. \nWe hope to see you there!
URL:https://www.ameresco.com/event/northeast-hydrogen-infrastructure-summit/
LOCATION:Federal Reserve Bank of Boston\, 600 Atlantic avenue\, Boston\, MA\, 02210\, United States
CATEGORIES:Attending
ATTACH;FMTTYPE=image/jpeg:https://www.ameresco.com/wp-content/uploads/2023/03/AEG.jpg
END:VEVENT
BEGIN:VEVENT
DTSTART;VALUE=DATE:20230629
DTEND;VALUE=DATE:20230630
DTSTAMP:20260425T101329
CREATED:20230621T192448Z
LAST-MODIFIED:20230621T192448Z
UID:27589-1687996800-1688083199@www.ameresco.com
SUMMARY:Trent University President's Excalibur Gold Tournament
DESCRIPTION:The annual President’s Excalibur Golf Tournament is the key fundraising event in support of the Trent Excalibur Green & White Scholarship Fund. Over the past 16 years\, this tournament has raised over $575\,000 to support the Green & White Scholarship Fund\, benefiting over four hundred Excalibur varsity student-athletes. \nWe are proud to be platinum title sponsors of this year’s tournament\, and we hope to see you there!
URL:https://www.ameresco.com/event/trent-university-presidents-excalibur-gold-tournament/
LOCATION:Peterborough Golf & Country Club\, 1030 Armour Road\, Peterborough\, Ontario\, K9J 7H4\, Canada
CATEGORIES:Attending,Sponsor
ATTACH;FMTTYPE=image/jpeg:https://www.ameresco.com/wp-content/uploads/2023/06/Excalibur-Golf.jpg
END:VEVENT
END:VCALENDAR