BEGIN:VCALENDAR
VERSION:2.0
PRODID:-//Ameresco - ECPv6.15.13.1//NONSGML v1.0//EN
CALSCALE:GREGORIAN
METHOD:PUBLISH
X-WR-CALNAME:Ameresco
X-ORIGINAL-URL:https://www.ameresco.com
X-WR-CALDESC:Events for Ameresco
REFRESH-INTERVAL;VALUE=DURATION:PT1H
X-Robots-Tag:noindex
X-PUBLISHED-TTL:PT1H
BEGIN:VTIMEZONE
TZID:America/New_York
BEGIN:DAYLIGHT
TZOFFSETFROM:-0500
TZOFFSETTO:-0400
TZNAME:EDT
DTSTART:20180311T070000
END:DAYLIGHT
BEGIN:STANDARD
TZOFFSETFROM:-0400
TZOFFSETTO:-0500
TZNAME:EST
DTSTART:20181104T060000
END:STANDARD
BEGIN:DAYLIGHT
TZOFFSETFROM:-0500
TZOFFSETTO:-0400
TZNAME:EDT
DTSTART:20190310T070000
END:DAYLIGHT
BEGIN:STANDARD
TZOFFSETFROM:-0400
TZOFFSETTO:-0500
TZNAME:EST
DTSTART:20191103T060000
END:STANDARD
BEGIN:DAYLIGHT
TZOFFSETFROM:-0500
TZOFFSETTO:-0400
TZNAME:EDT
DTSTART:20200308T070000
END:DAYLIGHT
BEGIN:STANDARD
TZOFFSETFROM:-0400
TZOFFSETTO:-0500
TZNAME:EST
DTSTART:20201101T060000
END:STANDARD
END:VTIMEZONE
BEGIN:VEVENT
DTSTART;VALUE=DATE:20190712
DTEND;VALUE=DATE:20190717
DTSTAMP:20260424T172533
CREATED:20190709T003506Z
LAST-MODIFIED:20190709T012314Z
UID:11376-1562961600-1563307199@www.ameresco.com
SUMMARY:NACUBO 2019 Annual Conference
DESCRIPTION:SUNDAY MIDDAY LEARNING OPPS – Utilizing Data Analytics: Capital Creation Strategies with Aging Infrastructure\nJuly 14\, 1:45 A.M. – 3:00 P.M. \nDescription: \nAging infrastructure and deferred maintenance present challenges for many campuses\, with decisions to repair or replace aging systems often complicated by competing pressures for investment. Effective data management and reporting can help colleges and universities capture\, analyze\, and use large amounts of data to navigate today’s challenges with facilities. The presenters will share approaches for collecting\, managing\, and using facilities data to inform decisions\, plus discuss tools and processes that support efforts to use data. You’ll learn how to develop a compelling business plan to leverage financial opportunities and reduce the deferred maintenance backlog\, while simultaneously reducing your institution’s carbon footprint. \nPanel: \nTim Dettlaff\, Senior Vice President & General Manager\, Ameresco \nChris Martin\, Vice President for Finance and Business Affairs\, North Idaho College
URL:https://www.ameresco.com/event/nacubo-2019-annual-conference/
LOCATION:Austin Convention Center
CATEGORIES:Attending,Exhibition Display,Speaker and Presentation,Sponsor
END:VEVENT
BEGIN:VEVENT
DTSTART;VALUE=DATE:20190715
DTEND;VALUE=DATE:20190719
DTSTAMP:20260424T172533
CREATED:20190621T235332Z
LAST-MODIFIED:20190712T004025Z
UID:11309-1563220800-1563479999@www.ameresco.com
SUMMARY:California Energy Summit 2019
DESCRIPTION:Description: \n\n\n\n\nThe 7th Annual California Energy Summit 2019 will bring together California’s top regulatory officials\, utility and public power leaders\, and developers to discuss the statewide implications of SB100 and solutions to California’s most pressing challenges in forming a 100% green grid. Some of the highly impactful topics to be discussed include wildfire prevention plans\, transmission buildout needs\, resource adequacy reform\, the shifting roles of LSEs\, and more. \n\n\n\n\nPanel:  \nWednesday\, July 17\, 10:30-11:30\nImpacts of California’s Latest IRP Proceeding on Renewables Procurement and Decarbonization \nCalifornia’s new framework for identifying efficient strategies for meeting state goals recently completed its first cycle. The CPUC unanimously voted in favor of the Preferred System Portfolio which consisted of 12 gigawatts of new generation\, procured mostly by CCAs. This panel will discuss the lessons learned from the last iteration of the IRP process\, how the IRP might change given the current market events\, and how it will affect the rate at which renewables are procured. \nModerator:\nMichael Colvin\, Director\, California Energy Program\, ENVIRONMENTAL DEFENSE FUND (EDF) \nPanelists:\nSandeep Arora\, Vice President\, LS POWER\nJacqueline DeRosa\, Vice President\, Battery Energy Storage Systems\, AMERESCO\nKaj Peterson\, Utilities Engineer\, Public Advocates Office\, CALIFORNIA PUBLIC UTILITIES COMMISSION\nDariush Shirmohammadi\, Technical Director\, CALIFORNIA WIND ENERGY ASSOCIATION
URL:https://www.ameresco.com/event/california-energy-summit-2019/
LOCATION:The L.A. Grand Hotel Downtown\, Los Angeles\, CA
CATEGORIES:Speaker and Presentation
END:VEVENT
BEGIN:VEVENT
DTSTART;VALUE=DATE:20190716
DTEND;VALUE=DATE:20190719
DTSTAMP:20260424T172533
CREATED:20190621T235854Z
LAST-MODIFIED:20190712T003735Z
UID:11315-1563307200-1563479999@www.ameresco.com
SUMMARY:2019 Southeastern Energy Storage Symposium
DESCRIPTION:Description: \nJoin the Department of Energy\, Southern Research\, Pacific Northwest National Lab\, Sandia National Laboratories\, and Oak Ridge National Lab for the return of the Southeastern Energy Storage Symposium\, a full day of insight from top experts on disruptive technologies in energy storage. The symposium will cover a broad spectrum of topics on the landscape of energy storage policy and regulation. Attendees will be able to participate in a wide breadth of panels and sessions hosted by leaders in the industry\, as well as learn more about the technologies and innovations underway at the SR Energy Storage Research Center and at labs and utilities nationwide. \nPanel: \nPolicy and Regulatory Perspectives on FTM and BTM Energy Storage \nPanelist: \nBen Lavoie\, Project Development Engineer\, Federal Solutions\, Ameresco
URL:https://www.ameresco.com/event/2019-southeastern-energy-storage-symposium/
LOCATION:Southern Research Oxmoor Location\, 757 Tom Martin Drive\, Birmingham\, AL\, 35211
CATEGORIES:Speaker and Presentation
END:VEVENT
BEGIN:VEVENT
DTSTART;VALUE=DATE:20190716
DTEND;VALUE=DATE:20190720
DTSTAMP:20260424T172533
CREATED:20190709T175215Z
LAST-MODIFIED:20190722T233600Z
UID:11402-1563307200-1563566399@www.ameresco.com
SUMMARY:AMCA 2019 Summer Conference
DESCRIPTION:Details: \nWelcome Reception – Sponsored by Ameresco \n5:30 – 7:00 p.m. Arizona Deck and Foyer \n Ameresco has a long history of partnering with local\, state and federal clients to provide comprehensive energy efficiency\, renewable and sustainability solutions. \nPanel: \n“Integrated Energy Efficiency and Sustainability Results” \nSpeaker: \nLenny Byrd\, Southern Arizona Senior Business Development Manager at Ameresco
URL:https://www.ameresco.com/event/amca-2019-summer-conference/
LOCATION:The Westin La Paloma Resort & Spa\, 3800 E Sunrise Dr.\, Tucson\, AZ\, 85718\, United States
CATEGORIES:Attending,Exhibition Display,Speaker and Presentation,Sponsor
END:VEVENT
BEGIN:VEVENT
DTSTART;VALUE=DATE:20190720
DTEND;VALUE=DATE:20190725
DTSTAMP:20260424T172533
CREATED:20190709T181208Z
LAST-MODIFIED:20190722T200715Z
UID:11412-1563652800-1563998399@www.ameresco.com
SUMMARY:NARUC
DESCRIPTION:Each year in July\, the National Association of Regulatory Utility Commissioners convenes a series of meetings that provide in-depth analysis of policy issues that are relevant to state utility regulators as well as stakeholder groups and federal regulators. Formerly known as the Summer Committee Meetings\, this event draws national experts and policymakers to a forum that upholds the tenets of serving the public interest: safe\, reliable\, and affordable service. NARUC members are focused on learning and sharing best practices\, ensuring that the important role of state regulators is understood and appreciated on the national stage\, and advancing key resolutions that will influence policy. \nTuesday\, July 23\n1:45 pm – 2:30 pm\nUnderstanding Real World Deployment of RNG through Case Studies \nAs the RNG market continues to grow\, this panel will explore the technical capability of renewable natural gas to meet market demand and will examine the potential role that RNG can play in meeting sustainability and emissions targets. The following panelists will discuss the growing market for RNG beyond just the transportation market and into direct use thermal applications. They will explore market decisions\, various motivations to peruse RNG projects\, RNG as a climate policy compliance tool\, how buyers and sellers connect\, and other questions. \nModerator: Hon. Paul Kjellander\, Idaho \nPanelists:  \nJeff Stander\, Senior Project Developer\, Ameresco\nRyan Childress\, Manager\, Business Development\, Dominion Energy\nBlaine Collison\, Senior Vice President\, David Gardiner and Associates\nBrian Jones\, Senior Vice President\, M.J. Bradley & Associates\nEmily O’Connell\, Director\, Energy Markets Policy\, American Gas Association
URL:https://www.ameresco.com/event/naruc/
LOCATION:JW Marriott Indianapolis\, 10 S West Street\, Indianapolis\, IN\, 46204\, United States
CATEGORIES:Attending,Speaker and Presentation
END:VEVENT
BEGIN:VEVENT
DTSTART;VALUE=DATE:20190723
DTEND;VALUE=DATE:20190726
DTSTAMP:20260424T172533
CREATED:20190709T194239Z
LAST-MODIFIED:20190722T174447Z
UID:11417-1563912000-1564084799@www.ameresco.com
SUMMARY:The Clean Cities Renewable Power Procurement Summit
DESCRIPTION:Details: \nThe Clean Cities Renewable Power Procurement Summit\, hosted by the City of Denver\, has been organized to help cities navigate the many complex considerations involved in procuring renewable power. Bringing together executives from cities across the country who are actively involved in the process\, procurement consultants and renewable energy suppliers. \nSpeaker\nBill Garbati\, Regional Director of Business Development \n \nJuly 25\, 2019\n10:30 – 11:15 AM \nTrack 1\nCase Study: City of Lowell\, MA seeks Aging Infrastructure Improvements through Energy Efficiency and Renewable Energy Project \nOverview\nLike many municipalities\, the City of Lowell experienced ongoing budget constraints and increasing operational costs at a time when infrastructure upgrades were also needed. To address these challenges\, City leadership decided to take action through an energy efficiency and renewable energy project. This budget-neutral solution\, in partnership with Ameresco\, ultimately allowed the City to address their infrastructure improvement needs and create resiliency in their systems without upfront capital investment.
URL:https://www.ameresco.com/event/the-clean-cities-renewable-power-procurement-summit/
LOCATION:Sheraton Denver Downtown Hotel\, 1550 Court Palace\, Denver\, CO\, 80202\, United States
CATEGORIES:Attending,Exhibition Display,Speaker and Presentation,Sponsor
END:VEVENT
BEGIN:VEVENT
DTSTART;VALUE=DATE:20190723
DTEND;VALUE=DATE:20190727
DTSTAMP:20260424T172533
CREATED:20190709T195833Z
LAST-MODIFIED:20190709T200044Z
UID:11430-1563912000-1564171199@www.ameresco.com
SUMMARY:CMAO Summer Conference
DESCRIPTION:
URL:https://www.ameresco.com/event/cmao-summer-conference/
LOCATION:Quartz Mountain Resort\, 22469 Lodge Road\, Lone Wolf\, OK\, 73655\, United States
CATEGORIES:Attending,Exhibition Display,Sponsor
END:VEVENT
BEGIN:VEVENT
DTSTART;VALUE=DATE:20190723
DTEND;VALUE=DATE:20190727
DTSTAMP:20260424T172533
CREATED:20190716T174747Z
LAST-MODIFIED:20190716T174747Z
UID:11767-1563912000-1564171199@www.ameresco.com
SUMMARY:2019 MCCA Summer Conference
DESCRIPTION:
URL:https://www.ameresco.com/event/2019-mcca-summer-conference/
LOCATION:Grand Traverse Resort and Spa\, 100 Grand Traverse Village Blvd\, Acme\, MI\, 49610\, United States
CATEGORIES:Attending,Exhibition Display
END:VEVENT
BEGIN:VEVENT
DTSTART;TZID=America/New_York:20190724T133000
DTEND;TZID=America/New_York:20190724T160000
DTSTAMP:20260424T172533
CREATED:20190709T191515Z
LAST-MODIFIED:20190709T192552Z
UID:11418-1563975000-1563984000@www.ameresco.com
SUMMARY:NEWIEE: Women Shaping the Agenda
DESCRIPTION:NEWIEE REGISTRATION SPONSOR AMERESCO \n5:30pm-8:00pm \nDetails: \nNEWIEE: Women Shaping the Agenda is a summer panel discussion among leaders in the industry\, featuring engaging dialog and debate on policy and industry topics in New England. The program aims to bring the environmental and energy sectors together\, focusing specifically on areas where these sectors intersect most closely while raising the voice of women professionals in solving today’s challenges and helping women to advance in their careers. \nPanel: \nKate Baily – Commissioner\, New Hampshire Public Utilities Commission \nCarol Grant – Commissioner\, Rhode Island Office of Energy Resources \nKate McKeever – Director\, Regulatory Affairs\, Enel Green Power North America \nHannah Pingree – Director\, Governor’s Office of Policy Innovation and the Future\, Maine \n 
URL:https://www.ameresco.com/event/newiee-women-shaping-the-agenda/
LOCATION:UMass Boston\, McCormak Graduate School\, 100 William T. Morrissey Blvd.\, Boston\, MA\, 02125\, United States
CATEGORIES:Sponsor
END:VEVENT
BEGIN:VEVENT
DTSTART;VALUE=DATE:20190729
DTEND;VALUE=DATE:20190731
DTSTAMP:20260424T172533
CREATED:20190723T232224Z
LAST-MODIFIED:20190723T232407Z
UID:12089-1564430400-1564516799@www.ameresco.com
SUMMARY:GTM's Northeast Solar & Storage Forum
DESCRIPTION:Description: \nJoin the region’s leading developers\, financiers\, technology vendors and policymakers for a day of networking\, in-depth conversation\, and exclusive GTM and Wood Mackenzie Power & Renewables analysis. Conference themes include 2019 policy developments impacting solar & storage across the northeast\, reflections on SMART – assessing the viability of solar and solar-plus-storage projects\, maximizing revenue streams for VDER values\, integrating DERs into wholesale markets – outlining revenue stream models\, capitalizing on up-and-coming Northeastern community solar markets\, perspectives from top C&I developers\, as well as solar-and-storage (and other DERs) as the key to resilience. \nPanelist: \nKathryn Chelminski\, Manager\, New Market Development \nPanel: \nReflections on SMART – Assessing the Viability of Solar and Solar-plus-Storage Projects
URL:https://www.ameresco.com/event/gtms-northeast-solar-storage-forum/
LOCATION:Convene Boston\, 201 Washington Street 2nd Floor\, Boston\, MA\, 02108\, United States
CATEGORIES:Attending,Speaker and Presentation
END:VEVENT
BEGIN:VEVENT
DTSTART;VALUE=DATE:20190730
DTEND;VALUE=DATE:20190803
DTSTAMP:20260424T172533
CREATED:20190709T234042Z
LAST-MODIFIED:20190712T230932Z
UID:11437-1564516800-1564775999@www.ameresco.com
SUMMARY:NCSA Administrators' Days 2019
DESCRIPTION:Description: \nAdministrators’ Days 2019 is fast approaching and you don’t want to miss this year’s event!  Administrators’ Days is held annually for over 1000 Nebraska School Administrators. The dates for this year’s conference are July 31-August 2 at the Younes Conference Center in Kearney\, Nebraska.
URL:https://www.ameresco.com/event/ncsa-administrators-days-2019/
LOCATION:Younes Conference Center and Holiday Inn\, 416 W Talmadge Rd\, Kearney\, NE\, 68845\, United States
CATEGORIES:Attending
END:VEVENT
END:VCALENDAR