BEGIN:VCALENDAR
VERSION:2.0
PRODID:-//Ameresco - ECPv6.15.13.1//NONSGML v1.0//EN
CALSCALE:GREGORIAN
METHOD:PUBLISH
X-WR-CALNAME:Ameresco
X-ORIGINAL-URL:https://www.ameresco.com
X-WR-CALDESC:Events for Ameresco
REFRESH-INTERVAL;VALUE=DURATION:PT1H
X-Robots-Tag:noindex
X-PUBLISHED-TTL:PT1H
BEGIN:VTIMEZONE
TZID:America/New_York
BEGIN:DAYLIGHT
TZOFFSETFROM:-0500
TZOFFSETTO:-0400
TZNAME:EDT
DTSTART:20180311T070000
END:DAYLIGHT
BEGIN:STANDARD
TZOFFSETFROM:-0400
TZOFFSETTO:-0500
TZNAME:EST
DTSTART:20181104T060000
END:STANDARD
BEGIN:DAYLIGHT
TZOFFSETFROM:-0500
TZOFFSETTO:-0400
TZNAME:EDT
DTSTART:20190310T070000
END:DAYLIGHT
BEGIN:STANDARD
TZOFFSETFROM:-0400
TZOFFSETTO:-0500
TZNAME:EST
DTSTART:20191103T060000
END:STANDARD
BEGIN:DAYLIGHT
TZOFFSETFROM:-0500
TZOFFSETTO:-0400
TZNAME:EDT
DTSTART:20200308T070000
END:DAYLIGHT
BEGIN:STANDARD
TZOFFSETFROM:-0400
TZOFFSETTO:-0500
TZNAME:EST
DTSTART:20201101T060000
END:STANDARD
END:VTIMEZONE
BEGIN:VEVENT
DTSTART;VALUE=DATE:20190604
DTEND;VALUE=DATE:20190606
DTSTAMP:20260424T190925
CREATED:20190610T172617Z
LAST-MODIFIED:20190610T172617Z
UID:11224-1559678400-1559764799@www.ameresco.com
SUMMARY:New England Women in Energy and the Environment Programming Roundtable
DESCRIPTION:
URL:https://www.ameresco.com/event/new-england-women-in-energy-and-the-environment-programming-roundtable/
LOCATION:Boston\, MA\, Boston\, MA
CATEGORIES:Attending
END:VEVENT
BEGIN:VEVENT
DTSTART;VALUE=DATE:20190605
DTEND;VALUE=DATE:20190609
DTSTAMP:20260424T190925
CREATED:20190611T234336Z
LAST-MODIFIED:20190611T234336Z
UID:11241-1559764800-1560023999@www.ameresco.com
SUMMARY:2019 Georgia School Boards Association Summer Conference
DESCRIPTION:
URL:https://www.ameresco.com/event/2019-georgia-school-boards-association-summer-conference/
LOCATION:Hyatt Regency Savannah\, 2 W. Bay Street\, Savannah\, GA\, 31401
CATEGORIES:Attending,Exhibition Display,Sponsor
END:VEVENT
BEGIN:VEVENT
DTSTART;VALUE=DATE:20190609
DTEND;VALUE=DATE:20190613
DTSTAMP:20260424T190925
CREATED:20190610T172852Z
LAST-MODIFIED:20190610T172852Z
UID:11228-1560110400-1560369599@www.ameresco.com
SUMMARY:South TX County Judges & Commissioners Association (CJCAT) Annual Conference
DESCRIPTION:
URL:https://www.ameresco.com/event/south-tx-county-judges-commissioners-association-cjcat-annual-conference/
LOCATION:Hyatt Regency Hill Country Resort\, 9800 Hyatt Resort Dr\, San Antonio\, TX\, 78251
CATEGORIES:Attending,Exhibition Display
END:VEVENT
BEGIN:VEVENT
DTSTART;VALUE=DATE:20190609
DTEND;VALUE=DATE:20190611
DTSTAMP:20260424T190925
CREATED:20190610T182930Z
LAST-MODIFIED:20190610T190127Z
UID:11232-1560110400-1560196799@www.ameresco.com
SUMMARY:SuperReturn US East
DESCRIPTION:Panel Discussion:\nHow is technology transforming the energy sector? Where are the opportunities to invest? \nPanelist:\nMike Bakas\, Executive Vice President\, Distributed Energy Systems\, Ameresco
URL:https://www.ameresco.com/event/superreturn-us-east/
LOCATION:Renaissance Boston Waterfront Hote\, Boston\, MA
CATEGORIES:Speaker and Presentation
END:VEVENT
BEGIN:VEVENT
DTSTART;VALUE=DATE:20190612
DTEND;VALUE=DATE:20190615
DTSTAMP:20260424T190925
CREATED:20190614T054714Z
LAST-MODIFIED:20190614T055645Z
UID:11268-1560369600-1560542399@www.ameresco.com
SUMMARY:Realcomm | IBcon 2019
DESCRIPTION:Energy Track: Understanding CRE Opportunities for Distributed Energy Resources – The MICROGRID Conversation Advances \nRenewable vs. fossil fuel\, grid vs. local vs. hybrid generation\, DC vs. AC\, analog vs. digital\, low-voltage and battery storage are just some of the topics and issues on the minds of those building and operating large real estate projects. Everyone seems to be in agreement that our grid and strategy for delivering electricity is outdated\, inefficient\, subject to vulnerabilities and in need of some attention. One of the more popular discussions is on the concept of next generation Microgrids. The idea of building a powerplant on-site that takes advantage of all the new concepts and technologies is taking hold. This insightful session will bring together those professionals on the forefront of the Microgrid conversation\, presenting ideas\, technologies and very innovative case studies. \nModerator:\nPeter Asmus\, Navigant \nSpeakers:\nWill Agate\, Ameresco\nBryan Huber\, CleanSpark\nSteve Pullins\, DEN
URL:https://www.ameresco.com/event/realcomm/
LOCATION:Music City Center\, 201 5th Ave S\, Nashville\, TN\, 37203\, United States
CATEGORIES:Attending,Speaker and Presentation
END:VEVENT
BEGIN:VEVENT
DTSTART;VALUE=DATE:20190615
DTEND;VALUE=DATE:20190620
DTSTAMP:20260424T190925
CREATED:20180523T203900Z
LAST-MODIFIED:20180523T203900Z
UID:8723-1560628800-1560974399@www.ameresco.com
SUMMARY:91st Annual AAAE Conference & Exposition
DESCRIPTION:Join us in Boston\, June 16–19\, 2019 at the 91st Annual AAAE Conference & Exposition.
URL:https://www.ameresco.com/event/91st-annual-aaae-conference-exposition/
LOCATION:Boston Convention Center & Exhibition Center\, 415 Summer Street\, Boston\, MA\, 02110
CATEGORIES:Attending,Exhibition Display
END:VEVENT
BEGIN:VEVENT
DTSTART;VALUE=DATE:20190616
DTEND;VALUE=DATE:20190620
DTSTAMP:20260424T190925
CREATED:20190613T214911Z
LAST-MODIFIED:20190613T214930Z
UID:11259-1560715200-1560974399@www.ameresco.com
SUMMARY:Florida School Finance Officers Association June 2019 Conference
DESCRIPTION:
URL:https://www.ameresco.com/event/fsfoa-june-2019-conference/
LOCATION:Hyatt Regency Jacksonville Riverfront\, 225 E Coastline Dr.\, Jacksonville\, FL\, 32202
CATEGORIES:Attending,Exhibition Display
END:VEVENT
BEGIN:VEVENT
DTSTART;VALUE=DATE:20190617
DTEND;VALUE=DATE:20190622
DTSTAMP:20260424T190925
CREATED:20190614T061455Z
LAST-MODIFIED:20190614T061455Z
UID:11272-1560801600-1561147199@www.ameresco.com
SUMMARY:97th Colorado Municipal League Annual Conference
DESCRIPTION:
URL:https://www.ameresco.com/event/97th-colorado-municipal-league-annual-conference/
LOCATION:Beaver Run Resort\, 620 Village Lane\, Breckenridge\, CO\, 80424
CATEGORIES:Attending,Exhibition Display
END:VEVENT
BEGIN:VEVENT
DTSTART;VALUE=DATE:20190618
DTEND;VALUE=DATE:20190622
DTSTAMP:20260424T190925
CREATED:20190613T214507Z
LAST-MODIFIED:20190613T214523Z
UID:11254-1560888000-1561147199@www.ameresco.com
SUMMARY:72nd Association of Idaho Cities Annual Conference
DESCRIPTION:
URL:https://www.ameresco.com/event/72nd-aic-annual-conference/
LOCATION:Boise Centre\, 850 W Front Street\, Boise\, ID\, 83702
CATEGORIES:Attending,Exhibition Display
END:VEVENT
BEGIN:VEVENT
DTSTART;TZID=America/New_York:20190620T043000
DTEND;TZID=America/New_York:20190620T073000
DTSTAMP:20260424T190925
CREATED:20190614T222244Z
LAST-MODIFIED:20190614T222319Z
UID:11291-1561005000-1561015800@www.ameresco.com
SUMMARY:Forum on Organic Waste & Biogas with Energy Vision
DESCRIPTION:Summary \nThe forum will convene a range of stakeholders\, including environmental groups\, industry experts\, and city government to look at opportunities and challenges for collecting and processing NYC’s organic waste into usable biogas for fueling vehicles\, heating buildings\, and earning revenue. \n9:15 AM – Panel 1: Organic Water to Fuel: What is Biogas? How can it be used? \nEric Goldstein\, NRDC\nBrian Paganini\, VP\, Quantum Biopower\nJim Bier\, Senior Project Developer\, Ameresco\nCharles E. Love\, Jr.\, Love’s-Trillium
URL:https://www.ameresco.com/event/forum-on-organic-waste-biogas-with-energy-vision/
LOCATION:NYU’s Marron Institute\, 60 Fifth Avenue\, 2nd Floor\, New York City\, NY
CATEGORIES:Speaker and Presentation
END:VEVENT
BEGIN:VEVENT
DTSTART;VALUE=DATE:20190621
DTEND;VALUE=DATE:20190626
DTSTAMP:20260424T190925
CREATED:20190614T213740Z
LAST-MODIFIED:20190614T213740Z
UID:11287-1561147200-1561492799@www.ameresco.com
SUMMARY:2019 Building Owners and Managers Association International Annual Conference & Expo
DESCRIPTION:
URL:https://www.ameresco.com/event/2019-building-owners-and-managers-association-international-annual-conference-expo/
LOCATION:Salt Palace Convention Center\, Salt Lake City\, UT
CATEGORIES:Attending
END:VEVENT
BEGIN:VEVENT
DTSTART;VALUE=DATE:20190623
DTEND;VALUE=DATE:20190628
DTSTAMP:20260424T190925
CREATED:20190610T172219Z
LAST-MODIFIED:20190624T181541Z
UID:11221-1561320000-1561665599@www.ameresco.com
SUMMARY:International District Energy Association 2019
DESCRIPTION:
URL:https://www.ameresco.com/event/international-district-energy-association-2019/
LOCATION:David L. Lawrence Convention Center\, 100 Fort Duquesne Boulevard\, Pittsburgh\, PA\, 15222\, United States
CATEGORIES:Attending,Exhibition Display
END:VEVENT
BEGIN:VEVENT
DTSTART;VALUE=DATE:20190624
DTEND;VALUE=DATE:20190626
DTSTAMP:20260424T190925
CREATED:20190622T000341Z
LAST-MODIFIED:20190622T000341Z
UID:11319-1561406400-1561492799@www.ameresco.com
SUMMARY:Parliamentary Links Day 2019
DESCRIPTION:Parliamentary Links Day is organised by the Royal Society of Biology on behalf of the science and engineering community to strengthen dialogue with Parliament\, and to provide MPs with a more rounded understanding of the scientific issues we face.
URL:https://www.ameresco.com/event/parliamentary-links-day-2019/
LOCATION:The Attlee Suite\, Portcullis House\, Houses of Parliament\, London\, SW1A 2LW\, United Kingdom
CATEGORIES:Attending
END:VEVENT
BEGIN:VEVENT
DTSTART;VALUE=DATE:20190624
DTEND;VALUE=DATE:20190629
DTSTAMP:20260424T190925
CREATED:20190622T000906Z
LAST-MODIFIED:20190622T000906Z
UID:11323-1561406400-1561751999@www.ameresco.com
SUMMARY:Association of Washington Cities Annual Conference 2019
DESCRIPTION:This year’s Annual Conference theme is “Building Community\,” a concept that communicates the importance of emphasizing our collective strengths and focusing on our similarities as a critical part of good governance.
URL:https://www.ameresco.com/event/association-of-washington-cities-annual-conference-2019/
LOCATION:Spokane Convention Center\, 334 W Spokane Falls Blvd\, Spokane\, WA\, 99201
CATEGORIES:Attending
END:VEVENT
BEGIN:VEVENT
DTSTART;VALUE=DATE:20190625
DTEND;VALUE=DATE:20190627
DTSTAMP:20260424T190925
CREATED:20190614T062057Z
LAST-MODIFIED:20190614T062057Z
UID:11276-1561492800-1561579199@www.ameresco.com
SUMMARY:League of Minnesota Cities 2019 Annual Conference
DESCRIPTION:
URL:https://www.ameresco.com/event/league-of-minnesota-cities-2019-annual-conference/
LOCATION:Duluth Entertainment Convention Center\, 350 Harbor Drive\, Duluth\, MN\, 55802\, United States
CATEGORIES:Exhibition Display
END:VEVENT
BEGIN:VEVENT
DTSTART;VALUE=DATE:20190626
DTEND;VALUE=DATE:20190701
DTSTAMP:20260424T190925
CREATED:20190610T172023Z
LAST-MODIFIED:20190610T172023Z
UID:11218-1561579200-1561924799@www.ameresco.com
SUMMARY:2019 Texas City Management Association Annual Conference
DESCRIPTION:
URL:https://www.ameresco.com/event/2019-texas-city-management-association-annual-conference/
LOCATION:Omni Fort Worth Hotel\, 1300 Houston St\, Fort Worth\, Texas\, 76102
CATEGORIES:Attending,Sponsor
END:VEVENT
BEGIN:VEVENT
DTSTART;VALUE=DATE:20190626
DTEND;VALUE=DATE:20190628
DTSTAMP:20260424T190925
CREATED:20190614T200656Z
LAST-MODIFIED:20190709T012406Z
UID:11283-1561579200-1561665599@www.ameresco.com
SUMMARY:2019 New Energy Solutions Conference
DESCRIPTION:TRACK 2 – SOLAR PLUS ENERGY STORAGE: VALUE PROPOSITIONS AND SUCCESSFUL MARKET STRATEGIES\n11:30 A.M. – 12:30 P.M. \nDescription:\nMany solar and energy service companies have expanded their service portfolios to include energy storage. This panel will explore the value propositions and successful market strategies that are driving successful business strategies and the solutions which customers seek. \nPanel:\nFortunat Mueller\, Co-Founder and Managing Director\, ReVision Energy\nSteven Strong\, Founder and Head of Company\, Solar Design Associates\nRyan Asselin\, Project Development Manager\, Ameresco
URL:https://www.ameresco.com/event/2019-new-energy-solutions-conference/
LOCATION:Boston Marriott Newton\, 2345 Commonwealth Avenue\, Newton\, MA\, 02466
CATEGORIES:Attending,Speaker and Presentation
END:VEVENT
END:VCALENDAR