BEGIN:VCALENDAR
VERSION:2.0
PRODID:-//Ameresco - ECPv6.15.13.1//NONSGML v1.0//EN
CALSCALE:GREGORIAN
METHOD:PUBLISH
X-ORIGINAL-URL:https://www.ameresco.com
X-WR-CALDESC:Events for Ameresco
REFRESH-INTERVAL;VALUE=DURATION:PT1H
X-Robots-Tag:noindex
X-PUBLISHED-TTL:PT1H
BEGIN:VTIMEZONE
TZID:America/New_York
BEGIN:DAYLIGHT
TZOFFSETFROM:-0500
TZOFFSETTO:-0400
TZNAME:EDT
DTSTART:20250309T070000
END:DAYLIGHT
BEGIN:STANDARD
TZOFFSETFROM:-0400
TZOFFSETTO:-0500
TZNAME:EST
DTSTART:20251102T060000
END:STANDARD
BEGIN:DAYLIGHT
TZOFFSETFROM:-0500
TZOFFSETTO:-0400
TZNAME:EDT
DTSTART:20260308T070000
END:DAYLIGHT
BEGIN:STANDARD
TZOFFSETFROM:-0400
TZOFFSETTO:-0500
TZNAME:EST
DTSTART:20261101T060000
END:STANDARD
BEGIN:DAYLIGHT
TZOFFSETFROM:-0500
TZOFFSETTO:-0400
TZNAME:EDT
DTSTART:20270314T070000
END:DAYLIGHT
BEGIN:STANDARD
TZOFFSETFROM:-0400
TZOFFSETTO:-0500
TZNAME:EST
DTSTART:20271107T060000
END:STANDARD
END:VTIMEZONE
BEGIN:VEVENT
DTSTART;VALUE=DATE:20260716
DTEND;VALUE=DATE:20260719
DTSTAMP:20260424T074235
CREATED:20260206T143651Z
LAST-MODIFIED:20260209T150755Z
UID:37657-1784160000-1784419199@www.ameresco.com
SUMMARY:APPA Annual Conference
DESCRIPTION:Ameresco is attending the APPA Annual Conference\, where campus facilities professionals gather to exchange ideas and tackle the real-world challenges facing higher education today. Ameresco is proud to connect with leaders who are focused on creating efficient\, resilient\, and high-performing campuses. Stop by our booth to learn how we partner with institutions to strengthen infrastructure and support long-term success.
URL:https://www.ameresco.com/event/appa-annual-conference/
LOCATION:Gaylord National Resort & Convention Center\, 201 Waterfront Street\, National Harbor\, Oxon Hill\, MD\, 20745\, United States
CATEGORIES:Exhibition Display,Sponsor
ATTACH;FMTTYPE=image/png:https://www.ameresco.com/wp-content/uploads/2026/02/APPA-Logo.png
END:VEVENT
BEGIN:VEVENT
DTSTART;VALUE=DATE:20260718
DTEND;VALUE=DATE:20260722
DTSTAMP:20260424T074235
CREATED:20260206T140507Z
LAST-MODIFIED:20260212T211739Z
UID:37652-1784332800-1784678399@www.ameresco.com
SUMMARY:NACUBO 2026 Annual Meeting
DESCRIPTION:Visit our team at the NACUBO 2026 Annual Meeting\, where higher education business leaders will gather for professional development\, networking\, and sharing winning strategies. As institutions rise to meet modern challenges\, we’re excited to support the solutions they need today and for the future. With expertise in energy efficiency\, renewables\, and innovative financing\, Ameresco helps colleges and universities turn today’s challenges into long‑term\, measurable outcomes. \nStop by booth #715 to connect with our team and learn more.
URL:https://www.ameresco.com/event/nacubo-2026-annual-meeting/
LOCATION:Anaheim Convention Center\, 800 W Katella Ave\, Anaheim\, CA\, 92802\, United States
CATEGORIES:Exhibition Display
ATTACH;FMTTYPE=image/jpeg:https://www.ameresco.com/wp-content/uploads/2024/06/NACUBO.jpg
END:VEVENT
END:VCALENDAR