BEGIN:VCALENDAR
VERSION:2.0
PRODID:-//Ameresco - ECPv6.15.13.1//NONSGML v1.0//EN
CALSCALE:GREGORIAN
METHOD:PUBLISH
X-WR-CALNAME:Ameresco
X-ORIGINAL-URL:https://www.ameresco.com
X-WR-CALDESC:Events for Ameresco
REFRESH-INTERVAL;VALUE=DURATION:PT1H
X-Robots-Tag:noindex
X-PUBLISHED-TTL:PT1H
BEGIN:VTIMEZONE
TZID:America/New_York
BEGIN:DAYLIGHT
TZOFFSETFROM:-0500
TZOFFSETTO:-0400
TZNAME:EDT
DTSTART:20250309T070000
END:DAYLIGHT
BEGIN:STANDARD
TZOFFSETFROM:-0400
TZOFFSETTO:-0500
TZNAME:EST
DTSTART:20251102T060000
END:STANDARD
BEGIN:DAYLIGHT
TZOFFSETFROM:-0500
TZOFFSETTO:-0400
TZNAME:EDT
DTSTART:20260308T070000
END:DAYLIGHT
BEGIN:STANDARD
TZOFFSETFROM:-0400
TZOFFSETTO:-0500
TZNAME:EST
DTSTART:20261101T060000
END:STANDARD
BEGIN:DAYLIGHT
TZOFFSETFROM:-0500
TZOFFSETTO:-0400
TZNAME:EDT
DTSTART:20270314T070000
END:DAYLIGHT
BEGIN:STANDARD
TZOFFSETFROM:-0400
TZOFFSETTO:-0500
TZNAME:EST
DTSTART:20271107T060000
END:STANDARD
END:VTIMEZONE
BEGIN:VEVENT
DTSTART;VALUE=DATE:20260504
DTEND;VALUE=DATE:20260508
DTSTAMP:20260420T082840
CREATED:20260225T144535Z
LAST-MODIFIED:20260225T144535Z
UID:37882-1777852800-1778198399@www.ameresco.com
SUMMARY:SSDN's Annual Meeting
DESCRIPTION:Ameresco will be participating in the Southeast Sustainability Directors Network (SSDN) Annual Meeting on May 4th-7th in Tampa\, FL. Sustainability leaders from across the region will gather to collaborate\, exchange ideas\, and advance community‑focused climate and resilience initiatives. We’re committed to supporting essential sustainable solutions today and into the future. \nStop by our Booth to connect with our team and learn more.
URL:https://www.ameresco.com/event/ssdns-annual-meeting/
LOCATION:Hilton Tampa Downton\, 211 North Tampa Street\, Tampa\, FL\, 33602\, United States
CATEGORIES:Exhibition Display
ATTACH;FMTTYPE=image/png:https://www.ameresco.com/wp-content/uploads/2026/02/Southeast-Sustainability-Directors-Network-Logo.png
END:VEVENT
END:VCALENDAR