BEGIN:VCALENDAR
VERSION:2.0
PRODID:-//Ameresco - ECPv6.15.13.1//NONSGML v1.0//EN
CALSCALE:GREGORIAN
METHOD:PUBLISH
X-WR-CALNAME:Ameresco
X-ORIGINAL-URL:https://www.ameresco.com
X-WR-CALDESC:Events for Ameresco
REFRESH-INTERVAL;VALUE=DURATION:PT1H
X-Robots-Tag:noindex
X-PUBLISHED-TTL:PT1H
BEGIN:VTIMEZONE
TZID:America/New_York
BEGIN:DAYLIGHT
TZOFFSETFROM:-0500
TZOFFSETTO:-0400
TZNAME:EDT
DTSTART:20240310T070000
END:DAYLIGHT
BEGIN:STANDARD
TZOFFSETFROM:-0400
TZOFFSETTO:-0500
TZNAME:EST
DTSTART:20241103T060000
END:STANDARD
BEGIN:DAYLIGHT
TZOFFSETFROM:-0500
TZOFFSETTO:-0400
TZNAME:EDT
DTSTART:20250309T070000
END:DAYLIGHT
BEGIN:STANDARD
TZOFFSETFROM:-0400
TZOFFSETTO:-0500
TZNAME:EST
DTSTART:20251102T060000
END:STANDARD
BEGIN:DAYLIGHT
TZOFFSETFROM:-0500
TZOFFSETTO:-0400
TZNAME:EDT
DTSTART:20260308T070000
END:DAYLIGHT
BEGIN:STANDARD
TZOFFSETFROM:-0400
TZOFFSETTO:-0500
TZNAME:EST
DTSTART:20261101T060000
END:STANDARD
END:VTIMEZONE
BEGIN:VEVENT
DTSTART;VALUE=DATE:20251025
DTEND;VALUE=DATE:20251030
DTSTAMP:20260424T052913
CREATED:20250128T192322Z
LAST-MODIFIED:20250513T200406Z
UID:32647-1761350400-1761782399@www.ameresco.com
SUMMARY:ICMA Annual Conference
DESCRIPTION:Since 1914\, the ICMA Annual Conference has been the go-to event for local government professionals. It’s a unique opportunity to learn\, share ideas\, and find solutions for today’s challenges. Join us with over 5\,000 leaders in Tampa for five days of learning\, inspiration\, and connection. The conference offers educational sessions\, inspiring keynotes\, skill-building workshops\, and presentations from top experts. It’s the perfect place to get practical solutions\, hear fresh ideas\, and connect with others facing similar challenges.
URL:https://www.ameresco.com/event/icma-annual-conference-3/
LOCATION:Tampa Convention Center\, 333 S Franklin St\,\, Tampa\, FL\, 33602\, United States
CATEGORIES:Exhibition Display,Sponsor
ATTACH;FMTTYPE=image/png:https://www.ameresco.com/wp-content/uploads/2025/01/ICMA-Event-Website.png
END:VEVENT
END:VCALENDAR